Package: scShapes Version: 1.13.0 Command: /home/biocbuild/R/R/bin/R CMD INSTALL scShapes StartedAt: 2025-01-29 19:47:06 -0000 (Wed, 29 Jan 2025) EndedAt: 2025-01-29 19:47:16 -0000 (Wed, 29 Jan 2025) EllapsedTime: 9.5 seconds RetCode: 0 Status: OK