Package: scShapes Version: 1.13.0 Command: /Library/Frameworks/R.framework/Resources/bin/R CMD INSTALL scShapes StartedAt: 2025-02-12 15:14:24 -0500 (Wed, 12 Feb 2025) EndedAt: 2025-02-12 15:14:35 -0500 (Wed, 12 Feb 2025) EllapsedTime: 11.1 seconds RetCode: 0 Status: OK