Package: scShapes Version: 1.13.0 Command: /home/biocbuild/bbs-3.21-bioc/R/bin/R CMD check --install=check:scShapes.install-out.txt --library=/home/biocbuild/bbs-3.21-bioc/R/site-library --timings scShapes_1.13.0.tar.gz StartedAt: 2025-02-10 02:28:45 -0500 (Mon, 10 Feb 2025) EndedAt: 2025-02-10 02:32:43 -0500 (Mon, 10 Feb 2025) EllapsedTime: 238.2 seconds RetCode: 0 Status: OK CheckDir: scShapes.Rcheck Warnings: 0