Package: scShapes Version: 1.13.0 Command: chmod a+r scShapes -R && E:\biocbuild\bbs-3.21-bioc\R\bin\R.exe CMD build --keep-empty-dirs --no-resave-data scShapes StartedAt: 2025-02-09 21:33:30 -0500 (Sun, 09 Feb 2025) EndedAt: 2025-02-09 21:35:33 -0500 (Sun, 09 Feb 2025) EllapsedTime: 122.4 seconds RetCode: 0 Status: OK PackageFile: scShapes_1.13.0.tar.gz PackageFileSize: 30.08 KiB