Package: scShapes Version: 1.13.0 Command: E:\biocbuild\bbs-3.21-bioc\R\bin\R.exe CMD check --no-multiarch --install=check:scShapes.install-out.txt --library=E:\biocbuild\bbs-3.21-bioc\R\library --no-vignettes --timings scShapes_1.13.0.tar.gz StartedAt: 2025-02-10 05:17:01 -0500 (Mon, 10 Feb 2025) EndedAt: 2025-02-10 05:25:28 -0500 (Mon, 10 Feb 2025) EllapsedTime: 506.9 seconds RetCode: 0 Status: OK CheckDir: scShapes.Rcheck Warnings: 0