Package: scTHI Version: 1.19.0 Command: rm -rf scTHI.buildbin-libdir && mkdir scTHI.buildbin-libdir && /Users/biocbuild/BBS/utils/build-universal.sh scTHI_1.19.0.tar.gz /Library/Frameworks/R.framework/Resources/bin/R scTHI.buildbin-libdir StartedAt: 2025-02-03 23:06:01 -0500 (Mon, 03 Feb 2025) EndedAt: 2025-02-03 23:06:03 -0500 (Mon, 03 Feb 2025) EllapsedTime: 2.0 seconds RetCode: 0 Status: OK PackageFile: scTHI_1.19.0.tgz PackageFileSize: 948.2 KiB