Package: scTHI Version: 1.19.0 Command: rm -rf scTHI.buildbin-libdir && mkdir scTHI.buildbin-libdir && /Users/biocbuild/BBS/utils/build-universal.sh scTHI_1.19.0.tar.gz /Library/Frameworks/R.framework/Resources/bin/R scTHI.buildbin-libdir StartedAt: 2025-02-04 00:55:46 -0500 (Tue, 04 Feb 2025) EndedAt: 2025-02-04 00:55:53 -0500 (Tue, 04 Feb 2025) EllapsedTime: 6.9 seconds RetCode: 0 Status: OK PackageFile: scTHI_1.19.0.tgz PackageFileSize: 943.1 KiB