Package: scTHI Version: 1.19.0 Command: /Library/Frameworks/R.framework/Resources/bin/R CMD build --keep-empty-dirs --no-resave-data scTHI StartedAt: 2025-02-09 18:24:18 -0500 (Sun, 09 Feb 2025) EndedAt: 2025-02-09 18:25:37 -0500 (Sun, 09 Feb 2025) EllapsedTime: 78.6 seconds RetCode: 0 Status: OK PackageFile: scTHI_1.19.0.tar.gz PackageFileSize: 905.4 KiB