Package: scTHI Version: 1.19.0 Command: /Library/Frameworks/R.framework/Resources/bin/R CMD INSTALL scTHI StartedAt: 2025-02-09 15:14:07 -0500 (Sun, 09 Feb 2025) EndedAt: 2025-02-09 15:14:11 -0500 (Sun, 09 Feb 2025) EllapsedTime: 4.1 seconds RetCode: 0 Status: OK