Package: scTHI Version: 1.19.0 Command: chmod a+r scTHI -R && E:\biocbuild\bbs-3.21-bioc\R\bin\R.exe CMD build --keep-empty-dirs --no-resave-data scTHI StartedAt: 2025-02-09 21:33:58 -0500 (Sun, 09 Feb 2025) EndedAt: 2025-02-09 21:35:24 -0500 (Sun, 09 Feb 2025) EllapsedTime: 85.6 seconds RetCode: 0 Status: OK PackageFile: scTHI_1.19.0.tar.gz PackageFileSize: 530.5 KiB