Package: scTHI Version: 1.19.0 Command: E:\biocbuild\bbs-3.21-bioc\R\bin\R.exe CMD INSTALL scTHI StartedAt: 2025-02-09 15:38:52 -0500 (Sun, 09 Feb 2025) EndedAt: 2025-02-09 15:39:00 -0500 (Sun, 09 Feb 2025) EllapsedTime: 8.0 seconds RetCode: 0 Status: OK