Package: scTensor Version: 2.17.0 Command: rm -rf scTensor.buildbin-libdir && mkdir scTensor.buildbin-libdir && /Users/biocbuild/BBS/utils/build-universal.sh scTensor_2.17.0.tar.gz /Library/Frameworks/R.framework/Resources/bin/R scTensor.buildbin-libdir StartedAt: 2025-02-09 22:30:18 -0500 (Sun, 09 Feb 2025) EndedAt: 2025-02-09 22:31:03 -0500 (Sun, 09 Feb 2025) EllapsedTime: 44.9 seconds RetCode: 0 Status: OK PackageFile: scTensor_2.17.0.tgz PackageFileSize: 5.882 MiB