Package: scTensor Version: 2.17.0 Command: /Library/Frameworks/R.framework/Resources/bin/R CMD INSTALL scTensor StartedAt: 2025-02-09 15:24:41 -0500 (Sun, 09 Feb 2025) EndedAt: 2025-02-09 15:25:03 -0500 (Sun, 09 Feb 2025) EllapsedTime: 22.1 seconds RetCode: 0 Status: OK