Package: scTensor Version: 2.17.0 Command: /home/biocbuild/R/R/bin/R CMD check --install=check:scTensor.install-out.txt --library=/home/biocbuild/R/R/site-library --no-vignettes --timings scTensor_2.17.0.tar.gz StartedAt: 2025-01-28 15:09:55 -0000 (Tue, 28 Jan 2025) EndedAt: 2025-01-28 15:17:30 -0000 (Tue, 28 Jan 2025) EllapsedTime: 454.5 seconds RetCode: 0 Status: WARNINGS CheckDir: scTensor.Rcheck Warnings: 1