Package: scTensor Version: 2.17.0 Command: /home/biocbuild/R/R/bin/R CMD INSTALL scTensor StartedAt: 2025-01-29 20:27:01 -0000 (Wed, 29 Jan 2025) EndedAt: 2025-01-29 20:28:13 -0000 (Wed, 29 Jan 2025) EllapsedTime: 72.6 seconds RetCode: 0 Status: OK