Package: scTensor Version: 2.17.0 Command: chmod a+r scTensor -R && E:\biocbuild\bbs-3.21-bioc\R\bin\R.exe CMD build --keep-empty-dirs --no-resave-data scTensor StartedAt: 2025-02-09 21:33:36 -0500 (Sun, 09 Feb 2025) EndedAt: 2025-02-09 21:36:16 -0500 (Sun, 09 Feb 2025) EllapsedTime: 160.0 seconds RetCode: 0 Status: OK PackageFile: scTensor_2.17.0.tar.gz PackageFileSize: 10.26 MiB