Package: scTreeViz Version: 1.13.0 Command: rm -rf scTreeViz.buildbin-libdir && mkdir scTreeViz.buildbin-libdir && /Users/biocbuild/BBS/utils/build-universal.sh scTreeViz_1.13.0.tar.gz /Library/Frameworks/R.framework/Resources/bin/R scTreeViz.buildbin-libdir StartedAt: 2025-02-10 01:15:45 -0500 (Mon, 10 Feb 2025) EndedAt: 2025-02-10 01:17:21 -0500 (Mon, 10 Feb 2025) EllapsedTime: 96.5 seconds RetCode: 0 Status: OK PackageFile: scTreeViz_1.13.0.tgz PackageFileSize: 2.627 MiB