Package: scTreeViz Version: 1.13.0 Command: chmod a+r scTreeViz -R && E:\biocbuild\bbs-3.21-bioc\R\bin\R.exe CMD build --keep-empty-dirs --no-resave-data scTreeViz StartedAt: 2025-02-09 21:34:01 -0500 (Sun, 09 Feb 2025) EndedAt: 2025-02-09 21:37:19 -0500 (Sun, 09 Feb 2025) EllapsedTime: 197.9 seconds RetCode: 0 Status: OK PackageFile: scTreeViz_1.13.0.tar.gz PackageFileSize: 2.209 MiB