Package: scanMiR Version: 1.13.0 Command: rm -rf scanMiR.buildbin-libdir && mkdir scanMiR.buildbin-libdir && /Users/biocbuild/BBS/utils/build-universal.sh scanMiR_1.13.0.tar.gz /Library/Frameworks/R.framework/Resources/bin/R scanMiR.buildbin-libdir StartedAt: 2025-02-09 22:29:18 -0500 (Sun, 09 Feb 2025) EndedAt: 2025-02-09 22:29:26 -0500 (Sun, 09 Feb 2025) EllapsedTime: 8.1 seconds RetCode: 0 Status: OK PackageFile: scanMiR_1.13.0.tgz PackageFileSize: 1.311 MiB