Package: scanMiR Version: 1.13.0 Command: /Library/Frameworks/R.framework/Resources/bin/R CMD build --keep-empty-dirs --no-resave-data scanMiR StartedAt: 2025-02-12 18:09:49 -0500 (Wed, 12 Feb 2025) EndedAt: 2025-02-12 18:10:20 -0500 (Wed, 12 Feb 2025) EllapsedTime: 30.8 seconds RetCode: 0 Status: OK PackageFile: scanMiR_1.13.0.tar.gz PackageFileSize: 1.062 MiB