Package: scatterHatch Version: 1.13.0 Maintainer: Atul Deshpande MaintainerEmail: adeshpande at jhu.edu git_url: https://git.bioconductor.org/packages/scatterHatch git_branch: devel git_last_commit: f2d495c git_last_commit_date: 2024-10-29 11:06:07 -0500 (Tue, 29 Oct 2024)