Package: scatterHatch Version: 1.13.0 Command: rm -rf scatterHatch.buildbin-libdir && mkdir scatterHatch.buildbin-libdir && /Users/biocbuild/BBS/utils/build-universal.sh scatterHatch_1.13.0.tar.gz /Library/Frameworks/R.framework/Resources/bin/R scatterHatch.buildbin-libdir StartedAt: 2025-02-09 22:29:23 -0500 (Sun, 09 Feb 2025) EndedAt: 2025-02-09 22:29:27 -0500 (Sun, 09 Feb 2025) EllapsedTime: 4.1 seconds RetCode: 0 Status: OK PackageFile: scatterHatch_1.13.0.tgz PackageFileSize: 4.286 MiB