Package: scatterHatch Version: 1.13.0 Command: /Library/Frameworks/R.framework/Resources/bin/R CMD INSTALL scatterHatch StartedAt: 2025-02-09 15:06:32 -0500 (Sun, 09 Feb 2025) EndedAt: 2025-02-09 15:06:35 -0500 (Sun, 09 Feb 2025) EllapsedTime: 2.6 seconds RetCode: 0 Status: OK