Package: scatterHatch Version: 1.13.0 Command: /Library/Frameworks/R.framework/Resources/bin/R CMD build --keep-empty-dirs --no-resave-data scatterHatch StartedAt: 2025-02-04 18:10:06 -0500 (Tue, 04 Feb 2025) EndedAt: 2025-02-04 18:10:40 -0500 (Tue, 04 Feb 2025) EllapsedTime: 34.3 seconds RetCode: 0 Status: OK PackageFile: scatterHatch_1.13.0.tar.gz PackageFileSize: 3.861 MiB