Package: scatterHatch Version: 1.13.0 Command: /home/biocbuild/bbs-3.21-bioc/R/bin/R CMD INSTALL scatterHatch StartedAt: 2025-02-03 15:17:17 -0500 (Mon, 03 Feb 2025) EndedAt: 2025-02-03 15:17:27 -0500 (Mon, 03 Feb 2025) EllapsedTime: 9.9 seconds RetCode: 0 Status: OK