Package: scatterHatch Version: 1.13.0 Command: rm -rf scatterHatch.buildbin-libdir && mkdir scatterHatch.buildbin-libdir && E:\biocbuild\bbs-3.21-bioc\R\bin\R.exe CMD INSTALL --build --library=scatterHatch.buildbin-libdir scatterHatch_1.13.0.tar.gz StartedAt: 2025-02-10 08:37:58 -0500 (Mon, 10 Feb 2025) EndedAt: 2025-02-10 08:38:14 -0500 (Mon, 10 Feb 2025) EllapsedTime: 16.4 seconds RetCode: 0 Status: OK PackageFile: scatterHatch_1.13.0.zip PackageFileSize: 1.495 MiB