Package: scatterHatch Version: 1.13.0 Command: chmod a+r scatterHatch -R && E:\biocbuild\bbs-3.21-bioc\R\bin\R.exe CMD build --keep-empty-dirs --no-resave-data scatterHatch StartedAt: 2025-02-09 21:23:58 -0500 (Sun, 09 Feb 2025) EndedAt: 2025-02-09 21:25:09 -0500 (Sun, 09 Feb 2025) EllapsedTime: 71.1 seconds RetCode: 0 Status: OK PackageFile: scatterHatch_1.13.0.tar.gz PackageFileSize: 1.456 MiB