Package: scatterHatch Version: 1.13.0 Command: E:\biocbuild\bbs-3.21-bioc\R\bin\R.exe CMD INSTALL scatterHatch StartedAt: 2025-02-05 15:34:33 -0500 (Wed, 05 Feb 2025) EndedAt: 2025-02-05 15:34:48 -0500 (Wed, 05 Feb 2025) EllapsedTime: 15.0 seconds RetCode: 0 Status: OK