Package: sccomp Version: 1.99.10 Maintainer: Stefano Mangiola MaintainerEmail: mangiolastefano at gmail.com git_url: https://git.bioconductor.org/packages/sccomp git_branch: devel git_last_commit: cfa8050 git_last_commit_date: 2025-01-28 07:58:32 -0500 (Tue, 28 Jan 2025)