Package: sccomp Version: 1.99.10 Command: rm -rf sccomp.buildbin-libdir && mkdir sccomp.buildbin-libdir && /Users/biocbuild/BBS/utils/build-universal.sh sccomp_1.99.10.tar.gz /Library/Frameworks/R.framework/Resources/bin/R sccomp.buildbin-libdir StartedAt: 2025-02-04 22:31:16 -0500 (Tue, 04 Feb 2025) EndedAt: 2025-02-04 22:31:30 -0500 (Tue, 04 Feb 2025) EllapsedTime: 14.2 seconds RetCode: 0 Status: OK PackageFile: sccomp_1.99.10.tgz PackageFileSize: 6.24 MiB