Package: sccomp Version: 1.99.10 Command: /Library/Frameworks/R.framework/Resources/bin/R CMD build --keep-empty-dirs --no-resave-data sccomp StartedAt: 2025-02-04 17:30:28 -0500 (Tue, 04 Feb 2025) EndedAt: 2025-02-04 17:30:53 -0500 (Tue, 04 Feb 2025) EllapsedTime: 25.3 seconds RetCode: 0 Status: OK PackageFile: sccomp_1.99.10.tar.gz PackageFileSize: 3.063 MiB