Package: sccomp Version: 1.99.10 Command: /Library/Frameworks/R.framework/Resources/bin/R CMD check --install=check:sccomp.install-out.txt --library=/Library/Frameworks/R.framework/Resources/library --no-vignettes --timings sccomp_1.99.10.tar.gz StartedAt: 2025-02-04 21:12:14 -0500 (Tue, 04 Feb 2025) EndedAt: 2025-02-04 21:13:30 -0500 (Tue, 04 Feb 2025) EllapsedTime: 75.8 seconds RetCode: 0 Status: OK CheckDir: sccomp.Rcheck Warnings: 0