Package: sccomp Version: 1.99.10 Command: /Library/Frameworks/R.framework/Resources/bin/R CMD INSTALL sccomp StartedAt: 2025-02-04 15:06:46 -0500 (Tue, 04 Feb 2025) EndedAt: 2025-02-04 15:06:58 -0500 (Tue, 04 Feb 2025) EllapsedTime: 12.0 seconds RetCode: 0 Status: OK