Package: sccomp Version: 1.99.10 Command: /home/biocbuild/R/R/bin/R CMD build --keep-empty-dirs --no-resave-data sccomp StartedAt: 2025-01-29 02:01:30 -0000 (Wed, 29 Jan 2025) EndedAt: 2025-01-29 02:02:42 -0000 (Wed, 29 Jan 2025) EllapsedTime: 72.1 seconds RetCode: 0 Status: OK PackageFile: sccomp_1.99.10.tar.gz PackageFileSize: 3.069 MiB