Package: sccomp Version: 1.99.10 Command: /Library/Frameworks/R.framework/Resources/bin/R CMD INSTALL sccomp StartedAt: 2025-02-04 15:11:48 -0500 (Tue, 04 Feb 2025) EndedAt: 2025-02-04 15:12:29 -0500 (Tue, 04 Feb 2025) EllapsedTime: 40.8 seconds RetCode: 0 Status: OK