Package: sccomp Version: 1.99.10 Command: /home/biocbuild/bbs-3.21-bioc/R/bin/R CMD build --keep-empty-dirs --no-resave-data sccomp StartedAt: 2025-02-04 19:03:20 -0500 (Tue, 04 Feb 2025) EndedAt: 2025-02-04 19:04:07 -0500 (Tue, 04 Feb 2025) EllapsedTime: 47.0 seconds RetCode: 0 Status: OK PackageFile: sccomp_1.99.10.tar.gz PackageFileSize: 3.063 MiB