Package: sccomp Version: 1.99.10 Command: /home/biocbuild/bbs-3.21-bioc/R/bin/R CMD check --install=check:sccomp.install-out.txt --library=/home/biocbuild/bbs-3.21-bioc/R/site-library --timings sccomp_1.99.10.tar.gz StartedAt: 2025-02-05 02:22:56 -0500 (Wed, 05 Feb 2025) EndedAt: 2025-02-05 02:27:19 -0500 (Wed, 05 Feb 2025) EllapsedTime: 262.2 seconds RetCode: 0 Status: OK CheckDir: sccomp.Rcheck Warnings: 0