Package: sccomp Version: 1.99.10 Command: /home/biocbuild/bbs-3.21-bioc/R/bin/R CMD INSTALL sccomp StartedAt: 2025-02-04 15:17:31 -0500 (Tue, 04 Feb 2025) EndedAt: 2025-02-04 15:18:02 -0500 (Tue, 04 Feb 2025) EllapsedTime: 30.8 seconds RetCode: 0 Status: OK