Package: sccomp Version: 1.99.10 Command: rm -rf sccomp.buildbin-libdir && mkdir sccomp.buildbin-libdir && E:\biocbuild\bbs-3.21-bioc\R\bin\R.exe CMD INSTALL --build --library=sccomp.buildbin-libdir sccomp_1.99.10.tar.gz StartedAt: 2025-02-05 08:50:38 -0500 (Wed, 05 Feb 2025) EndedAt: 2025-02-05 08:51:29 -0500 (Wed, 05 Feb 2025) EllapsedTime: 50.2 seconds RetCode: 0 Status: OK PackageFile: sccomp_1.99.10.zip PackageFileSize: 6.242 MiB