Package: sccomp Version: 1.99.10 Command: chmod a+r sccomp -R && E:\biocbuild\bbs-3.21-bioc\R\bin\R.exe CMD build --keep-empty-dirs --no-resave-data sccomp StartedAt: 2025-02-04 21:26:32 -0500 (Tue, 04 Feb 2025) EndedAt: 2025-02-04 21:28:03 -0500 (Tue, 04 Feb 2025) EllapsedTime: 91.1 seconds RetCode: 0 Status: OK PackageFile: sccomp_1.99.10.tar.gz PackageFileSize: 3.062 MiB