Package: sccomp Version: 1.99.10 Command: E:\biocbuild\bbs-3.21-bioc\R\bin\R.exe CMD check --no-multiarch --install=check:sccomp.install-out.txt --library=E:\biocbuild\bbs-3.21-bioc\R\library --no-vignettes --timings sccomp_1.99.10.tar.gz StartedAt: 2025-02-05 05:29:02 -0500 (Wed, 05 Feb 2025) EndedAt: 2025-02-05 05:32:47 -0500 (Wed, 05 Feb 2025) EllapsedTime: 224.4 seconds RetCode: 0 Status: OK CheckDir: sccomp.Rcheck Warnings: 0