Package: sccomp Version: 1.99.10 Command: E:\biocbuild\bbs-3.21-bioc\R\bin\R.exe CMD INSTALL sccomp StartedAt: 2025-02-04 15:54:11 -0500 (Tue, 04 Feb 2025) EndedAt: 2025-02-04 15:55:00 -0500 (Tue, 04 Feb 2025) EllapsedTime: 48.5 seconds RetCode: 0 Status: OK