Package: scde Version: 2.35.0 Command: /Library/Frameworks/R.framework/Resources/bin/R CMD build --keep-empty-dirs --no-resave-data scde StartedAt: 2025-02-12 18:11:30 -0500 (Wed, 12 Feb 2025) EndedAt: 2025-02-12 18:11:32 -0500 (Wed, 12 Feb 2025) EllapsedTime: 2.3 seconds RetCode: 0 Status: OK PackageFile: scde_2.35.0.tar.gz PackageFileSize: 1.059 MiB