Package: scde Version: 2.35.0 Command: /home/biocbuild/bbs-3.21-bioc/R/bin/R CMD build --keep-empty-dirs --no-resave-data scde StartedAt: 2025-02-09 19:06:15 -0500 (Sun, 09 Feb 2025) EndedAt: 2025-02-09 19:06:16 -0500 (Sun, 09 Feb 2025) EllapsedTime: 1.0 seconds RetCode: 0 Status: OK PackageFile: scde_2.35.0.tar.gz PackageFileSize: 1.059 MiB