Package: scde Version: 2.35.0 Command: /home/biocbuild/bbs-3.21-bioc/R/bin/R CMD INSTALL scde StartedAt: 2025-02-09 15:12:48 -0500 (Sun, 09 Feb 2025) EndedAt: 2025-02-09 15:13:40 -0500 (Sun, 09 Feb 2025) EllapsedTime: 52.4 seconds RetCode: 0 Status: OK