Package: scde Version: 2.35.0 Command: E:\biocbuild\bbs-3.21-bioc\R\bin\R.exe CMD check --no-multiarch --install=check:scde.install-out.txt --library=E:\biocbuild\bbs-3.21-bioc\R\library --no-vignettes --timings scde_2.35.0.tar.gz StartedAt: 2025-02-10 05:05:01 -0500 (Mon, 10 Feb 2025) EndedAt: 2025-02-10 05:07:58 -0500 (Mon, 10 Feb 2025) EllapsedTime: 177.1 seconds RetCode: 0 Status: WARNINGS CheckDir: scde.Rcheck Warnings: 2