Package: schex Version: 1.21.0 Command: rm -rf schex.buildbin-libdir && mkdir schex.buildbin-libdir && /Users/biocbuild/BBS/utils/build-universal.sh schex_1.21.0.tar.gz /Library/Frameworks/R.framework/Resources/bin/R schex.buildbin-libdir StartedAt: 2025-02-04 22:31:33 -0500 (Tue, 04 Feb 2025) EndedAt: 2025-02-04 22:31:45 -0500 (Tue, 04 Feb 2025) EllapsedTime: 12.2 seconds RetCode: 0 Status: OK PackageFile: schex_1.21.0.tgz PackageFileSize: 2.409 MiB