############################################################################## ############################################################################## ### ### Running command: ### ### /Library/Frameworks/R.framework/Resources/bin/R CMD check --install=check:schex.install-out.txt --library=/Library/Frameworks/R.framework/Resources/library --no-vignettes --timings schex_1.21.0.tar.gz ### ############################################################################## ############################################################################## * using log directory ‘/Users/biocbuild/bbs-3.21-bioc/meat/schex.Rcheck’ * using R Under development (unstable) (2025-01-20 r87609) * using platform: aarch64-apple-darwin20 * R was compiled by Apple clang version 14.0.0 (clang-1400.0.29.202) GNU Fortran (GCC) 14.2.0 * running under: macOS Ventura 13.7.1 * using session charset: UTF-8 * using option ‘--no-vignettes’ * checking for file ‘schex/DESCRIPTION’ ... OK * checking extension type ... Package * this is package ‘schex’ version ‘1.21.0’ * package encoding: UTF-8 * checking package namespace information ... OK * checking package dependencies ... OK * checking if this is a source package ... OK * checking if there is a namespace ... OK * checking for hidden files and directories ... OK * checking for portable file names ... OK * checking for sufficient/correct file permissions ... OK * checking whether package ‘schex’ can be installed ... OK * checking installed package size ... OK * checking package directory ... OK * checking ‘build’ directory ... OK * checking DESCRIPTION meta-information ... OK * checking top-level files ... OK * checking for left-over files ... OK * checking index information ... OK * checking package subdirectories ... OK * checking code files for non-ASCII characters ... OK * checking R files for syntax errors ... OK * checking whether the package can be loaded ... OK * checking whether the package can be loaded with stated dependencies ... OK * checking whether the package can be unloaded cleanly ... OK * checking whether the namespace can be loaded with stated dependencies ... OK * checking whether the namespace can be unloaded cleanly ... OK * checking dependencies in R code ... OK * checking S3 generic/method consistency ... OK * checking replacement functions ... OK * checking foreign function calls ... OK * checking R code for possible problems ... OK * checking Rd files ... OK * checking Rd metadata ... OK * checking Rd cross-references ... NOTE Found the following Rd file(s) with Rd \link{} targets missing package anchors: plot_hexbin_bivariate.Rd: ggplot2 plot_hexbin_density.Rd: ggplot2 plot_hexbin_fc.Rd: ggplot2 plot_hexbin_feature.Rd: ggplot2 plot_hexbin_feature_plus.Rd: ggforce, ggplot2 plot_hexbin_interact.Rd: ggplot2 plot_hexbin_meta.Rd: ggplot2 plot_hexbin_meta_plus.Rd: ggforce, ggplot2 Please provide package anchors for all Rd \link{} targets not in the package itself and the base packages. * checking for missing documentation entries ... OK * checking for code/documentation mismatches ... OK * checking Rd \usage sections ... OK * checking Rd contents ... OK * checking for unstated dependencies in examples ... OK * checking files in ‘vignettes’ ... OK * checking examples ... OK Examples with CPU (user + system) or elapsed time > 5s user system elapsed make_hexbin 8.584 0.581 10.068 plot_hexbin_meta_plus 7.332 0.447 8.154 plot_hexbin_meta 7.299 0.434 8.104 plot_hexbin_fc 6.570 0.420 7.569 plot_hexbin_feature 6.286 0.440 7.630 plot_hexbin_density 6.105 0.333 6.835 plot_hexbin_interact 6.080 0.347 6.890 plot_hexbin_feature_plus 5.744 0.427 6.556 make_hexbin_label 5.575 0.334 6.599 plot_hexbin_bivariate 5.357 0.320 6.213 * checking for unstated dependencies in ‘tests’ ... OK * checking tests ... Running ‘testthat.R’ OK * checking for unstated dependencies in vignettes ... OK * checking package vignettes ... OK * checking running R code from vignettes ... SKIPPED * checking re-building of vignette outputs ... SKIPPED * checking PDF version of manual ... OK * DONE Status: 1 NOTE See ‘/Users/biocbuild/bbs-3.21-bioc/meat/schex.Rcheck/00check.log’ for details.