Package: schex Version: 1.21.0 Command: /Library/Frameworks/R.framework/Resources/bin/R CMD check --install=check:schex.install-out.txt --library=/Library/Frameworks/R.framework/Resources/library --no-vignettes --timings schex_1.21.0.tar.gz StartedAt: 2025-02-04 21:14:25 -0500 (Tue, 04 Feb 2025) EndedAt: 2025-02-04 21:16:59 -0500 (Tue, 04 Feb 2025) EllapsedTime: 154.8 seconds RetCode: 0 Status: OK CheckDir: schex.Rcheck Warnings: 0