Package: schex Version: 1.21.0 Command: /Library/Frameworks/R.framework/Resources/bin/R CMD INSTALL schex StartedAt: 2025-02-04 15:06:57 -0500 (Tue, 04 Feb 2025) EndedAt: 2025-02-04 15:07:07 -0500 (Tue, 04 Feb 2025) EllapsedTime: 10.3 seconds RetCode: 0 Status: OK